BEGIN:VCALENDAR
VERSION:2.0
PRODID:-//Peptide Development Services - ECPv6.15.20//NONSGML v1.0//EN
CALSCALE:GREGORIAN
METHOD:PUBLISH
X-WR-CALNAME:Peptide Development Services
X-ORIGINAL-URL:https://www.ambiopharm.com
X-WR-CALDESC:Events for Peptide Development Services
REFRESH-INTERVAL;VALUE=DURATION:PT1H
X-Robots-Tag:noindex
X-PUBLISHED-TTL:PT1H
BEGIN:VTIMEZONE
TZID:Europe/Stockholm
BEGIN:DAYLIGHT
TZOFFSETFROM:+0100
TZOFFSETTO:+0200
TZNAME:CEST
DTSTART:20230326T010000
END:DAYLIGHT
BEGIN:STANDARD
TZOFFSETFROM:+0200
TZOFFSETTO:+0100
TZNAME:CET
DTSTART:20231029T010000
END:STANDARD
BEGIN:DAYLIGHT
TZOFFSETFROM:+0100
TZOFFSETTO:+0200
TZNAME:CEST
DTSTART:20240331T010000
END:DAYLIGHT
BEGIN:STANDARD
TZOFFSETFROM:+0200
TZOFFSETTO:+0100
TZNAME:CET
DTSTART:20241027T010000
END:STANDARD
BEGIN:DAYLIGHT
TZOFFSETFROM:+0100
TZOFFSETTO:+0200
TZNAME:CEST
DTSTART:20250330T010000
END:DAYLIGHT
BEGIN:STANDARD
TZOFFSETFROM:+0200
TZOFFSETTO:+0100
TZNAME:CET
DTSTART:20251026T010000
END:STANDARD
END:VTIMEZONE
BEGIN:VEVENT
DTSTART;VALUE=DATE:20240918
DTEND;VALUE=DATE:20240920
DTSTAMP:20260424T230614
CREATED:20220720T130341Z
LAST-MODIFIED:20241030T141702Z
UID:13726-1726617600-1726790399@www.ambiopharm.com
SUMMARY:Nordic Life Science Days
DESCRIPTION:Nordic Life Science Days is the largest Nordic partnering conference dedicated to the life science industry. Since its inception in 2013\, the event has nurtured a community of people from the world of life science\, and created a unique place to do business. \n\nSchedule some time to meet with us at Nordic Life Science Days here.
URL:https://www.ambiopharm.com/event/nordic-life-science-days/
LOCATION:Malmömässan\, – Mässgatan 6 – 215 32\, Malmö\, Sweden
CATEGORIES:Conference,Virtual Conference
ATTACH;FMTTYPE=image/png:https://www.ambiopharm.com/wp-content/uploads/2019/03/NLS.png
END:VEVENT
END:VCALENDAR